BEGIN:VCALENDAR
VERSION:2.0
PRODID:-//hacksw/handcal//NONSGML v1.0//EN
CALSCALE:GREGORIAN
BEGIN:VEVENT
LOCATION:
DESCRIPTION:
DTSTART:20260425T000000Z
DTEND:20260425T000000Z
SUMMARY:Spring Play - Metamorphoses
URL;VALUE=URI:https://www.glenbardeasths.org/event/spring-play-metamorphoses-3/
DTSTAMP:20260421T112012Z
UID:69e75d6c531f1
END:VEVENT
END:VCALENDAR