BEGIN:VCALENDAR
VERSION:2.0
PRODID:-//hacksw/handcal//NONSGML v1.0//EN
CALSCALE:GREGORIAN
BEGIN:VEVENT
LOCATION:
DESCRIPTION:
DTSTART:20201224T000000Z
DTEND:20201224T000000Z
SUMMARY:NO SCHOOL - Winter Recess
URL;VALUE=URI:https://www.glenbardeasths.org/event/no-school-winter-recess-46/
DTSTAMP:20260422T215349Z
UID:69e9436dc8803
END:VEVENT
END:VCALENDAR