BEGIN:VCALENDAR
VERSION:2.0
PRODID:-//hacksw/handcal//NONSGML v1.0//EN
CALSCALE:GREGORIAN
BEGIN:VEVENT
LOCATION:
DESCRIPTION:
DTSTART:20221013T170000Z
DTEND:20221013T180000Z
SUMMARY:GPS webinar: Dr. Madeline Levine - Success is Not a Straight Line: Skills to Thrive in Trying Times
URL;VALUE=URI:https://www.glenbardeasths.org/event/gps-webinar-dr-madeline-levine-success-is-not-a-straight-line-skills-to-thrive-in-trying-times/
DTSTAMP:20260420T204243Z
UID:69e68fc38b676
END:VEVENT
END:VCALENDAR