BEGIN:VCALENDAR
VERSION:2.0
PRODID:-//hacksw/handcal//NONSGML v1.0//EN
CALSCALE:GREGORIAN
BEGIN:VEVENT
LOCATION:
DESCRIPTION:
DTSTART:20260428T000000Z
DTEND:20260428T000000Z
SUMMARY:GPS Parent Series: Lisa Phillips /Teen Communication and Relationship skills in the Time of Technology 
URL;VALUE=URI:https://www.glenbardeasths.org/event/gps-parent-series-lisa-phillips-teen-communication-and-relationship-skills-in-the-time-of-technology/
DTSTAMP:20260424T154904Z
UID:69eb90f00a054
END:VEVENT
END:VCALENDAR