BEGIN:VCALENDAR
VERSION:2.0
PRODID:-//hacksw/handcal//NONSGML v1.0//EN
CALSCALE:GREGORIAN
BEGIN:VEVENT
LOCATION:
DESCRIPTION:
DTSTART:20251114T000000Z
DTEND:20251114T000000Z
SUMMARY:Fall Musical - GREASE
URL;VALUE=URI:https://www.glenbardeasths.org/event/fall-musical-grease-3/
DTSTAMP:20260424T171233Z
UID:69eba481b4358
END:VEVENT
END:VCALENDAR